BEGIN:VCALENDAR
VERSION:2.0
PRODID:-//www.ableinc.net//NONSGML kigkonsult.se iCalcreator 2.30.10//
CALSCALE:GREGORIAN
METHOD:PUBLISH
UID:132926b4-e2d4-4067-89ac-7f5592cece3b
X-WR-CALDESC:
X-WR-RELCALID:13d3c293a5ed05f5af80942556ccb400
X-WR-TIMEZONE:America/Denver
BEGIN:VTIMEZONE
TZID:America/Denver
BEGIN:STANDARD
TZNAME:MST
DTSTART:20211107T020000
TZOFFSETFROM:-0600
TZOFFSETTO:-0700
RDATE:20221106T020000
RDATE:20231105T020000
END:STANDARD
BEGIN:DAYLIGHT
TZNAME:MDT
DTSTART:20220313T020000
TZOFFSETFROM:-0700
TZOFFSETTO:-0600
RDATE:20230312T020000
END:DAYLIGHT
END:VTIMEZONE
BEGIN:VEVENT
UID:823404cc-8542-4a0e-844d-1f3e0f379792
DTSTAMP:20260425T105722Z
DESCRIPTION:
DTSTART;TZID=America/Denver:20220713T120000
DTEND;TZID=America/Denver:20220713T130000
LOCATION:Microsoft Teams
SUMMARY:Infection Control Recert Via TEAMS
END:VEVENT
END:VCALENDAR
