BEGIN:VCALENDAR
VERSION:2.0
PRODID:-//www.ableinc.net//NONSGML kigkonsult.se iCalcreator 2.30.10//
CALSCALE:GREGORIAN
METHOD:PUBLISH
UID:3b70f40e-2c83-4ab6-a6f1-33f8aac9a661
X-WR-CALDESC:
X-WR-RELCALID:65a7889e63f47bce023e0b1b3201b337
X-WR-TIMEZONE:America/Denver
BEGIN:VTIMEZONE
TZID:America/Denver
BEGIN:STANDARD
TZNAME:MST
DTSTART:20201101T020000
TZOFFSETFROM:-0600
TZOFFSETTO:-0700
RDATE:20211107T020000
RDATE:20221106T020000
END:STANDARD
BEGIN:DAYLIGHT
TZNAME:MDT
DTSTART:20210314T020000
TZOFFSETFROM:-0700
TZOFFSETTO:-0600
RDATE:20220313T020000
RDATE:20230312T020000
END:DAYLIGHT
END:VTIMEZONE
BEGIN:VEVENT
UID:d3f6f58f-7bac-4fcc-b04d-b77b787bb0f0
DTSTAMP:20260425T122229Z
DESCRIPTION:
DTSTART;TZID=America/Denver:20211008T140000
DTEND;TZID=America/Denver:20211008T160000
LOCATION:ABLE\, Inc. Main Office\, Dickinson
SUMMARY:Therapeutic Responses Recert
END:VEVENT
END:VCALENDAR
