BEGIN:VCALENDAR
VERSION:2.0
PRODID:-//www.ableinc.net//NONSGML kigkonsult.se iCalcreator 2.30.10//
CALSCALE:GREGORIAN
METHOD:PUBLISH
UID:d1b405d6-b423-4248-9706-b1d26cf3c7d3
X-WR-CALDESC:
X-WR-RELCALID:e1558db1bdbd5c5d54c9d54debb961d6
X-WR-TIMEZONE:America/Denver
BEGIN:VTIMEZONE
TZID:America/Denver
BEGIN:STANDARD
TZNAME:MST
DTSTART:20201101T020000
TZOFFSETFROM:-0600
TZOFFSETTO:-0700
RDATE:20211107T020000
RDATE:20221106T020000
END:STANDARD
BEGIN:DAYLIGHT
TZNAME:MDT
DTSTART:20210314T020000
TZOFFSETFROM:-0700
TZOFFSETTO:-0600
RDATE:20220313T020000
END:DAYLIGHT
END:VTIMEZONE
BEGIN:VEVENT
UID:9de2d65c-6e3f-4774-9d9a-592c75edd518
DTSTAMP:20260425T135527Z
DESCRIPTION:
DTSTART;TZID=America/Denver:20210622T090000
DTEND;TZID=America/Denver:20210622T100000
LOCATION:Presentation via Teams
SUMMARY:Infection Control via Teams
END:VEVENT
END:VCALENDAR
