BEGIN:VCALENDAR
VERSION:2.0
PRODID:-//www.ableinc.net//NONSGML kigkonsult.se iCalcreator 2.30.10//
CALSCALE:GREGORIAN
METHOD:PUBLISH
UID:06f33221-58ca-43b3-b245-76fca03fd471
X-WR-CALDESC:
X-WR-RELCALID:4886de07fb83a8106f1dae193a77849b
X-WR-TIMEZONE:America/Denver
BEGIN:VTIMEZONE
TZID:America/Denver
BEGIN:STANDARD
TZNAME:MST
DTSTART:20201101T020000
TZOFFSETFROM:-0600
TZOFFSETTO:-0700
RDATE:20211107T020000
END:STANDARD
BEGIN:DAYLIGHT
TZNAME:MDT
DTSTART:20200308T020000
TZOFFSETFROM:-0700
TZOFFSETTO:-0600
RDATE:20210314T020000
RDATE:20220313T020000
END:DAYLIGHT
END:VTIMEZONE
BEGIN:VEVENT
UID:b5d6432a-3686-4a1e-875e-737ccc2f54ab
DTSTAMP:20260421T174742Z
DESCRIPTION:
DTSTART;TZID=America/Denver:20210120T090000
DTEND;TZID=America/Denver:20210120T100000
LOCATION:Presentation via Teams
SUMMARY:Infection Control via Teams
END:VEVENT
END:VCALENDAR
