BEGIN:VCALENDAR
VERSION:2.0
PRODID:-//www.ableinc.net//NONSGML kigkonsult.se iCalcreator 2.30.10//
CALSCALE:GREGORIAN
METHOD:PUBLISH
UID:44450589-bc6f-42df-b5b8-bd4b9fa72224
X-WR-CALDESC:
X-WR-RELCALID:1028fde4e735fe87fcc71719d6c0f676
X-WR-TIMEZONE:America/Denver
BEGIN:VTIMEZONE
TZID:America/Denver
BEGIN:STANDARD
TZNAME:MST
DTSTART:20201101T020000
TZOFFSETFROM:-0600
TZOFFSETTO:-0700
RDATE:20211107T020000
END:STANDARD
BEGIN:DAYLIGHT
TZNAME:MDT
DTSTART:20200308T020000
TZOFFSETFROM:-0700
TZOFFSETTO:-0600
RDATE:20210314T020000
RDATE:20220313T020000
END:DAYLIGHT
END:VTIMEZONE
BEGIN:VEVENT
UID:2cb7b7fa-e032-453d-9bed-4b0effee5d65
DTSTAMP:20260425T163921Z
DESCRIPTION:
DTSTART;TZID=America/Denver:20210107T090000
DTEND;TZID=America/Denver:20210107T160000
LOCATION:1951 1st St W\, Dickinson\, ND 58601 US
SUMMARY:Therapeutic  Responses
END:VEVENT
END:VCALENDAR
