BEGIN:VCALENDAR
VERSION:2.0
PRODID:-//www.ableinc.net//NONSGML kigkonsult.se iCalcreator 2.30.10//
CALSCALE:GREGORIAN
METHOD:PUBLISH
UID:3d689c98-7f22-439c-b894-af274b2265fd
X-WR-CALDESC:
X-WR-RELCALID:12e22688bc05ea29db22b5367aebf804
X-WR-TIMEZONE:America/Denver
BEGIN:VTIMEZONE
TZID:America/Denver
BEGIN:STANDARD
TZNAME:MST
DTSTART:20191103T020000
TZOFFSETFROM:-0600
TZOFFSETTO:-0700
RDATE:20201101T020000
RDATE:20211107T020000
END:STANDARD
BEGIN:DAYLIGHT
TZNAME:MDT
DTSTART:20200308T020000
TZOFFSETFROM:-0700
TZOFFSETTO:-0600
RDATE:20210314T020000
END:DAYLIGHT
END:VTIMEZONE
BEGIN:VEVENT
UID:af4e361b-d12a-4c86-9c7a-1b830d649301
DTSTAMP:20260423T102306Z
DESCRIPTION:
DTSTART;TZID=America/Denver:20200722T130000
DTEND;TZID=America/Denver:20200722T160000
LOCATION:Training Room
SUMMARY:Medication Inservice for new employees
END:VEVENT
END:VCALENDAR
