BEGIN:VCALENDAR
VERSION:2.0
PRODID:-//www.ableinc.net//NONSGML kigkonsult.se iCalcreator 2.30.10//
CALSCALE:GREGORIAN
METHOD:PUBLISH
UID:2e8cbd33-051b-40b7-abc4-f15440a571bb
X-WR-CALDESC:This class will take a one hour lunch break.  Employees may ta
 ke the Positive Behavior Supports test at the end of class.  If they do no
 t test\, they will be finished at 2:45pm.
X-WR-RELCALID:ab96eca6504324508aaa8e2b75e78290
X-WR-TIMEZONE:America/Denver
BEGIN:VTIMEZONE
TZID:America/Denver
BEGIN:STANDARD
TZNAME:MST
DTSTART:20191103T020000
TZOFFSETFROM:-0600
TZOFFSETTO:-0700
RDATE:20201101T020000
RDATE:20211107T020000
END:STANDARD
BEGIN:DAYLIGHT
TZNAME:MDT
DTSTART:20200308T020000
TZOFFSETFROM:-0700
TZOFFSETTO:-0600
RDATE:20210314T020000
END:DAYLIGHT
END:VTIMEZONE
BEGIN:VEVENT
UID:44e9acb6-ee84-401b-910c-7fa984b54d53
DTSTAMP:20260425T191422Z
DESCRIPTION:This class will take a one hour lunch break.  Employees may tak
 e the Positive Behavior Supports test at the end of class.  If they do not
  test\, they will be finished at 2:45pm.
DTSTART;TZID=America/Denver:20200702T090000
DTEND;TZID=America/Denver:20200702T160000
LOCATION:ABLE\, Inc. Main Office
SUMMARY:Therapeutic Responses for new employees
END:VEVENT
END:VCALENDAR
